BEGIN:VCALENDAR
VERSION:2.0
PRODID:-//horsealert.local//NONSGML kigkonsult.se iCalcreator 2.10.5//
CALSCALE:GREGORIAN
X-WR-TIMEZONE:Europe/Dublin
BEGIN:VTIMEZONE
TZID:Etc/GMT-1
BEGIN:STANDARD
DTSTART:20010101T000000
TZOFFSETFROM:+0100
TZOFFSETTO:+0100
TZNAME:GMT +01:00
END:STANDARD
END:VTIMEZONE
BEGIN:VEVENT
UID:20260426T021627CEST-8677UwSv90@horsealert.local
DTSTAMP:20260426T000427Z
CATEGORIES:Horse Alerts
DESCRIPTION:Lingfield Marriott Hotel & Country Club Maiden Open NH Flat Rac
 e \(AW\)
DTSTART:20121215T153000
LOCATION:England
SUMMARY:Horse Racing:Lingfield Marriott Hotel & Country Club Maiden Open NH
  Flat Race \(AW\)
END:VEVENT
END:VCALENDAR
