BEGIN:VCALENDAR
VERSION:2.0
PRODID:-//horsealert.local//NONSGML kigkonsult.se iCalcreator 2.10.5//
CALSCALE:GREGORIAN
X-WR-TIMEZONE:Europe/Dublin
BEGIN:VTIMEZONE
TZID:Etc/GMT-1
BEGIN:STANDARD
DTSTART:20010101T000000
TZOFFSETFROM:+0100
TZOFFSETTO:+0100
TZNAME:GMT +01:00
END:STANDARD
END:VTIMEZONE
BEGIN:VEVENT
UID:20260426T060653CEST-9608Acc7DF@horsealert.local
DTSTAMP:20260426T040453Z
CATEGORIES:Horse Alerts
DESCRIPTION:Follow Fairyhouse On Twitter Rated Hurdle
DTSTART:20121215T142500
LOCATION:Eire
SUMMARY:Horse Racing:Follow Fairyhouse On Twitter Rated Hurdle
END:VEVENT
END:VCALENDAR
