BEGIN:VCALENDAR
VERSION:2.0
PRODID:-//horsealert.local//NONSGML kigkonsult.se iCalcreator 2.10.5//
CALSCALE:GREGORIAN
X-WR-TIMEZONE:Europe/Dublin
BEGIN:VTIMEZONE
TZID:Etc/GMT-1
BEGIN:STANDARD
DTSTART:20010101T000000
TZOFFSETFROM:+0100
TZOFFSETTO:+0100
TZNAME:GMT +01:00
END:STANDARD
END:VTIMEZONE
BEGIN:VEVENT
UID:20260426T042155CEST-6826A6cJbK@horsealert.local
DTSTAMP:20260426T020455Z
CATEGORIES:Horse Alerts
DESCRIPTION:fourseasonsmarqueehire.com \'National Hunt\' Novices\' Hurdle
DTSTART:20121214T133500
LOCATION:Wales
SUMMARY:Horse Racing:fourseasonsmarqueehire.com \'National Hunt\' Novices\'
  Hurdle
END:VEVENT
END:VCALENDAR
