BEGIN:VCALENDAR
VERSION:2.0
PRODID:-//horsealert.local//NONSGML kigkonsult.se iCalcreator 2.10.5//
CALSCALE:GREGORIAN
X-WR-TIMEZONE:Europe/Dublin
BEGIN:VTIMEZONE
TZID:Etc/GMT-1
BEGIN:STANDARD
DTSTART:20010101T000000
TZOFFSETFROM:+0100
TZOFFSETTO:+0100
TZNAME:GMT +01:00
END:STANDARD
END:VTIMEZONE
BEGIN:VEVENT
UID:20260426T021728CEST-5589Th2k0L@horsealert.local
DTSTAMP:20260426T000428Z
CATEGORIES:Horse Alerts
DESCRIPTION:Students Day At Gowran Park 2013 - Tuesday April 9th Maiden Hur
 dle
DTSTART:20121213T140500
LOCATION:Eire
SUMMARY:Horse Racing:Students Day At Gowran Park 2013 - Tuesday April 9th M
 aiden Hurdle
END:VEVENT
END:VCALENDAR
