BEGIN:VCALENDAR
VERSION:2.0
PRODID:-//horsealert.local//NONSGML kigkonsult.se iCalcreator 2.10.5//
CALSCALE:GREGORIAN
X-WR-TIMEZONE:Europe/Dublin
BEGIN:VTIMEZONE
TZID:Etc/GMT-1
BEGIN:STANDARD
DTSTART:20010101T000000
TZOFFSETFROM:+0100
TZOFFSETTO:+0100
TZNAME:GMT +01:00
END:STANDARD
END:VTIMEZONE
BEGIN:VEVENT
UID:20260426T021727CEST-0217UeGMV8@horsealert.local
DTSTAMP:20260426T000427Z
CATEGORIES:Horse Alerts
DESCRIPTION:SIS Live Maiden Hurdle \(John Wade And Collins Seafoods Ltd Hur
 dle Series Qualifier\)
DTSTART:20121211T125000
LOCATION:England
SUMMARY:Horse Racing:SIS Live Maiden Hurdle \(John Wade And Collins Seafood
 s Ltd Hurdle Series Qualifier\)
END:VEVENT
END:VCALENDAR
