BEGIN:VCALENDAR
VERSION:2.0
PRODID:-//horsealert.local//NONSGML kigkonsult.se iCalcreator 2.10.5//
CALSCALE:GREGORIAN
X-WR-TIMEZONE:Europe/Dublin
BEGIN:VTIMEZONE
TZID:Etc/GMT-1
BEGIN:STANDARD
DTSTART:20010101T000000
TZOFFSETFROM:+0100
TZOFFSETTO:+0100
TZNAME:GMT +01:00
END:STANDARD
END:VTIMEZONE
BEGIN:VEVENT
UID:20260426T021624CEST-4594Zoo1RM@horsealert.local
DTSTAMP:20260426T000424Z
CATEGORIES:Horse Alerts
DESCRIPTION:Scottish Racing Your Better Bet Standard Open NH Flat Race
DTSTART:20121210T152000
LOCATION:Scotland
SUMMARY:Horse Racing:Scottish Racing Your Better Bet Standard Open NH Flat 
 Race
END:VEVENT
END:VCALENDAR
