BEGIN:VCALENDAR
VERSION:2.0
PRODID:-//horsealert.local//NONSGML kigkonsult.se iCalcreator 2.10.5//
CALSCALE:GREGORIAN
X-WR-TIMEZONE:Europe/Dublin
BEGIN:VTIMEZONE
TZID:Etc/GMT-1
BEGIN:STANDARD
DTSTART:20010101T000000
TZOFFSETFROM:+0100
TZOFFSETTO:+0100
TZNAME:GMT +01:00
END:STANDARD
END:VTIMEZONE
BEGIN:VEVENT
UID:20260426T021726CEST-1908UKkONu@horsealert.local
DTSTAMP:20260426T000426Z
CATEGORIES:Horse Alerts
DESCRIPTION:Longines Hong Kong Vase \(Group 1 Stakes\)
DTSTART:20121209T060000
LOCATION:Hong Kong
SUMMARY:Horse Racing:Longines Hong Kong Vase \(Group 1 Stakes\)
END:VEVENT
END:VCALENDAR
