BEGIN:VCALENDAR
VERSION:2.0
PRODID:-//horsealert.local//NONSGML kigkonsult.se iCalcreator 2.10.5//
CALSCALE:GREGORIAN
X-WR-TIMEZONE:Europe/Dublin
BEGIN:VTIMEZONE
TZID:Etc/GMT-1
BEGIN:STANDARD
DTSTART:20010101T000000
TZOFFSETFROM:+0100
TZOFFSETTO:+0100
TZNAME:GMT +01:00
END:STANDARD
END:VTIMEZONE
BEGIN:VEVENT
UID:20260426T042155CEST-7737u7Pl2z@horsealert.local
DTSTAMP:20260426T020455Z
CATEGORIES:Horse Alerts
DESCRIPTION:Betfred Still Treble Odds On Lucky15 Maiden Hurdle
DTSTART:20121209T141000
LOCATION:England
SUMMARY:Horse Racing:Betfred Still Treble Odds On Lucky15 Maiden Hurdle
END:VEVENT
END:VCALENDAR
