BEGIN:VCALENDAR
VERSION:2.0
PRODID:-//horsealert.local//NONSGML kigkonsult.se iCalcreator 2.10.5//
CALSCALE:GREGORIAN
X-WR-TIMEZONE:Europe/Dublin
BEGIN:VTIMEZONE
TZID:Etc/GMT-1
BEGIN:STANDARD
DTSTART:20010101T000000
TZOFFSETFROM:+0100
TZOFFSETTO:+0100
TZNAME:GMT +01:00
END:STANDARD
END:VTIMEZONE
BEGIN:VEVENT
UID:20260426T042154CEST-2244UrXH66@horsealert.local
DTSTAMP:20260426T020454Z
CATEGORIES:Horse Alerts
DESCRIPTION:John Oakley 50th Birthday \'National Hunt\' Novices\' Hurdle
DTSTART:20121208T122000
LOCATION:England
SUMMARY:Horse Racing:John Oakley 50th Birthday \'National Hunt\' Novices\' 
 Hurdle
END:VEVENT
END:VCALENDAR
