BEGIN:VCALENDAR
VERSION:2.0
PRODID:-//horsealert.local//NONSGML kigkonsult.se iCalcreator 2.10.5//
CALSCALE:GREGORIAN
X-WR-TIMEZONE:Europe/Dublin
BEGIN:VTIMEZONE
TZID:Etc/GMT-1
BEGIN:STANDARD
DTSTART:20010101T000000
TZOFFSETFROM:+0100
TZOFFSETTO:+0100
TZNAME:GMT +01:00
END:STANDARD
END:VTIMEZONE
BEGIN:VEVENT
UID:20260426T042201CEST-42679R1cx4@horsealert.local
DTSTAMP:20260426T020401Z
CATEGORIES:Horse Alerts
DESCRIPTION:British Stallion Studs Supporting British Racing E.B.F. \'Junio
 r\' Standard Open NH Flat Race
DTSTART:20121207T155000
LOCATION:England
SUMMARY:Horse Racing:British Stallion Studs Supporting British Racing E.B.F
 . \'Junior\' Standard Open NH Flat Race
END:VEVENT
END:VCALENDAR
