BEGIN:VCALENDAR
VERSION:2.0
PRODID:-//horsealert.local//NONSGML kigkonsult.se iCalcreator 2.10.5//
CALSCALE:GREGORIAN
X-WR-TIMEZONE:Europe/Dublin
BEGIN:VTIMEZONE
TZID:Etc/GMT-1
BEGIN:STANDARD
DTSTART:20010101T000000
TZOFFSETFROM:+0100
TZOFFSETTO:+0100
TZNAME:GMT +01:00
END:STANDARD
END:VTIMEZONE
BEGIN:VEVENT
UID:20260426T042126CEST-7153fUcknH@horsealert.local
DTSTAMP:20260426T020426Z
CATEGORIES:Horse Alerts
DESCRIPTION:Bet With The Racing UK App Conditional Jockeys\' Novices\' Hand
 icap Hurdle
DTSTART:20121207T123000
LOCATION:England
SUMMARY:Horse Racing:Bet With The Racing UK App Conditional Jockeys\' Novic
 es\' Handicap Hurdle
END:VEVENT
END:VCALENDAR
