BEGIN:VCALENDAR
VERSION:2.0
PRODID:-//horsealert.local//NONSGML kigkonsult.se iCalcreator 2.10.5//
CALSCALE:GREGORIAN
X-WR-TIMEZONE:Europe/Dublin
BEGIN:VTIMEZONE
TZID:Etc/GMT-1
BEGIN:STANDARD
DTSTART:20010101T000000
TZOFFSETFROM:+0100
TZOFFSETTO:+0100
TZNAME:GMT +01:00
END:STANDARD
END:VTIMEZONE
BEGIN:VEVENT
UID:20260426T021742CEST-88325Ijmzl@horsealert.local
DTSTAMP:20260426T000442Z
CATEGORIES:Horse Alerts
DESCRIPTION:Racing Welfare West Country Trainers Conditional Jockeys\' Hand
 icap Chase
DTSTART:20121206T154000
LOCATION:England
SUMMARY:Horse Racing:Racing Welfare West Country Trainers Conditional Jocke
 ys\' Handicap Chase
END:VEVENT
END:VCALENDAR
