BEGIN:VCALENDAR
VERSION:2.0
PRODID:-//horsealert.local//NONSGML kigkonsult.se iCalcreator 2.10.5//
CALSCALE:GREGORIAN
X-WR-TIMEZONE:Europe/Dublin
BEGIN:VTIMEZONE
TZID:Etc/GMT-1
BEGIN:STANDARD
DTSTART:20010101T000000
TZOFFSETFROM:+0100
TZOFFSETTO:+0100
TZNAME:GMT +01:00
END:STANDARD
END:VTIMEZONE
BEGIN:VEVENT
UID:20260426T042126CEST-0009gV1zZP@horsealert.local
DTSTAMP:20260426T020426Z
CATEGORIES:Horse Alerts
DESCRIPTION:Book W.H.W.F. Tickets On 0844 579 3008 Handicap \(Div 1\)
DTSTART:20121205T185000
LOCATION:England
SUMMARY:Horse Racing:Book W.H.W.F. Tickets On 0844 579 3008 Handicap \(Div 
 1\)
END:VEVENT
END:VCALENDAR
