BEGIN:VCALENDAR
VERSION:2.0
PRODID:-//horsealert.local//NONSGML kigkonsult.se iCalcreator 2.10.5//
CALSCALE:GREGORIAN
X-WR-TIMEZONE:Europe/Dublin
BEGIN:VTIMEZONE
TZID:Etc/GMT-1
BEGIN:STANDARD
DTSTART:20010101T000000
TZOFFSETFROM:+0100
TZOFFSETTO:+0100
TZNAME:GMT +01:00
END:STANDARD
END:VTIMEZONE
BEGIN:VEVENT
UID:20260426T021612CEST-1819hdXuEm@horsealert.local
DTSTAMP:20260426T000412Z
CATEGORIES:Horse Alerts
DESCRIPTION:Racing Plus - The Best Weekend Action Handicap
DTSTART:20121205T175000
LOCATION:England
SUMMARY:Horse Racing:Racing Plus - The Best Weekend Action Handicap
END:VEVENT
END:VCALENDAR
