BEGIN:VCALENDAR
VERSION:2.0
PRODID:-//horsealert.local//NONSGML kigkonsult.se iCalcreator 2.10.5//
CALSCALE:GREGORIAN
X-WR-TIMEZONE:Europe/Dublin
BEGIN:VTIMEZONE
TZID:Etc/GMT-1
BEGIN:STANDARD
DTSTART:20010101T000000
TZOFFSETFROM:+0100
TZOFFSETTO:+0100
TZNAME:GMT +01:00
END:STANDARD
END:VTIMEZONE
BEGIN:VEVENT
UID:20260426T021740CEST-8633km98aZ@horsealert.local
DTSTAMP:20260426T000440Z
CATEGORIES:Horse Alerts
DESCRIPTION:Sportingbet Handicap Chase \(For The Jim Joel Memorial Trophy\)
DTSTART:20121201T154000
LOCATION:England
SUMMARY:Horse Racing:Sportingbet Handicap Chase \(For The Jim Joel Memorial
  Trophy\)
END:VEVENT
END:VCALENDAR
