BEGIN:VCALENDAR
VERSION:2.0
PRODID:-//horsealert.local//NONSGML kigkonsult.se iCalcreator 2.10.5//
CALSCALE:GREGORIAN
X-WR-TIMEZONE:Europe/Dublin
BEGIN:VTIMEZONE
TZID:Etc/GMT-1
BEGIN:STANDARD
DTSTART:20010101T000000
TZOFFSETFROM:+0100
TZOFFSETTO:+0100
TZNAME:GMT +01:00
END:STANDARD
END:VTIMEZONE
BEGIN:VEVENT
UID:20260426T040554CEST-2139VN9W4a@horsealert.local
DTSTAMP:20260426T020454Z
CATEGORIES:Horse Alerts
DESCRIPTION:Sanderson Weatherall Ladies Are Ageless Conditional Jockeys\' H
 andicap Chase
DTSTART:20121130T133000
LOCATION:England
SUMMARY:Horse Racing:Sanderson Weatherall Ladies Are Ageless Conditional Jo
 ckeys\' Handicap Chase
END:VEVENT
END:VCALENDAR
