BEGIN:VCALENDAR
VERSION:2.0
PRODID:-//horsealert.local//NONSGML kigkonsult.se iCalcreator 2.10.5//
CALSCALE:GREGORIAN
X-WR-TIMEZONE:Europe/Dublin
BEGIN:VTIMEZONE
TZID:Etc/GMT-1
BEGIN:STANDARD
DTSTART:20010101T000000
TZOFFSETFROM:+0100
TZOFFSETTO:+0100
TZNAME:GMT +01:00
END:STANDARD
END:VTIMEZONE
BEGIN:VEVENT
UID:20260426T040525CEST-66976u5MiU@horsealert.local
DTSTAMP:20260426T020425Z
CATEGORIES:Horse Alerts
DESCRIPTION:Sportingbet Intermediate Hurdle \(Listed Handicap\) \(Registere
 d As The Gerry Feilden Hurdle\)
DTSTART:20121129T151500
LOCATION:England
SUMMARY:Horse Racing:Sportingbet Intermediate Hurdle \(Listed Handicap\) \(
 Registered As The Gerry Feilden Hurdle\)
END:VEVENT
END:VCALENDAR
