BEGIN:VCALENDAR
VERSION:2.0
PRODID:-//horsealert.local//NONSGML kigkonsult.se iCalcreator 2.10.5//
CALSCALE:GREGORIAN
X-WR-TIMEZONE:Europe/Dublin
BEGIN:VTIMEZONE
TZID:Etc/GMT-1
BEGIN:STANDARD
DTSTART:20010101T000000
TZOFFSETFROM:+0100
TZOFFSETTO:+0100
TZNAME:GMT +01:00
END:STANDARD
END:VTIMEZONE
BEGIN:VEVENT
UID:20260426T040545CEST-4766luujZu@horsealert.local
DTSTAMP:20260426T020445Z
CATEGORIES:Horse Alerts
DESCRIPTION:Cyprium Bar At Lingfield Marriott \'Junior\' Standard Open NH F
 lat Race \(AW\)
DTSTART:20121127T153000
LOCATION:England
SUMMARY:Horse Racing:Cyprium Bar At Lingfield Marriott \'Junior\' Standard 
 Open NH Flat Race \(AW\)
END:VEVENT
END:VCALENDAR
