BEGIN:VCALENDAR
VERSION:2.0
PRODID:-//horsealert.local//NONSGML kigkonsult.se iCalcreator 2.10.5//
CALSCALE:GREGORIAN
X-WR-TIMEZONE:Europe/Dublin
BEGIN:VTIMEZONE
TZID:Etc/GMT-1
BEGIN:STANDARD
DTSTART:20010101T000000
TZOFFSETFROM:+0100
TZOFFSETTO:+0100
TZNAME:GMT +01:00
END:STANDARD
END:VTIMEZONE
BEGIN:VEVENT
UID:20260426T040555CEST-5009WUX7kW@horsealert.local
DTSTAMP:20260426T020455Z
CATEGORIES:Horse Alerts
DESCRIPTION:Follow At BetfairRacing On Twitter Standard Open NH Flat Race
DTSTART:20121124T132500
LOCATION:England
SUMMARY:Horse Racing:Follow At BetfairRacing On Twitter Standard Open NH Fl
 at Race
END:VEVENT
END:VCALENDAR
