BEGIN:VCALENDAR
VERSION:2.0
PRODID:-//horsealert.local//NONSGML kigkonsult.se iCalcreator 2.10.5//
CALSCALE:GREGORIAN
X-WR-TIMEZONE:Europe/Dublin
BEGIN:VTIMEZONE
TZID:Etc/GMT-1
BEGIN:STANDARD
DTSTART:20010101T000000
TZOFFSETFROM:+0100
TZOFFSETTO:+0100
TZNAME:GMT +01:00
END:STANDARD
END:VTIMEZONE
BEGIN:VEVENT
UID:20260426T040532CEST-0591h7hDdp@horsealert.local
DTSTAMP:20260426T020432Z
CATEGORIES:Horse Alerts
DESCRIPTION:Polyflor At Home.com E.B.F. \'Junior\' Standard Open NH Flat Ra
 ce
DTSTART:20121123T154000
LOCATION:England
SUMMARY:Horse Racing:Polyflor At Home.com E.B.F. \'Junior\' Standard Open N
 H Flat Race
END:VEVENT
END:VCALENDAR
