BEGIN:VCALENDAR
VERSION:2.0
PRODID:-//horsealert.local//NONSGML kigkonsult.se iCalcreator 2.10.5//
CALSCALE:GREGORIAN
X-WR-TIMEZONE:Europe/Dublin
BEGIN:VTIMEZONE
TZID:Etc/GMT-1
BEGIN:STANDARD
DTSTART:20010101T000000
TZOFFSETFROM:+0100
TZOFFSETTO:+0100
TZNAME:GMT +01:00
END:STANDARD
END:VTIMEZONE
BEGIN:VEVENT
UID:20260426T040719CEST-4380xZXrKn@horsealert.local
DTSTAMP:20260426T020419Z
CATEGORIES:Horse Alerts
DESCRIPTION:Read Nicholls & McCain Exclusively On Betfair Novices\' Hurdle 
 \(Registered As The Newton Novices\' Hurdle\) \(Listed\)
DTSTART:20121123T143000
LOCATION:England
SUMMARY:Horse Racing:Read Nicholls & McCain Exclusively On Betfair Novices\
 ' Hurdle \(Registered As The Newton Novices\' Hurdle\) \(Listed\)
END:VEVENT
END:VCALENDAR
