BEGIN:VCALENDAR
VERSION:2.0
PRODID:-//horsealert.local//NONSGML kigkonsult.se iCalcreator 2.10.5//
CALSCALE:GREGORIAN
X-WR-TIMEZONE:Europe/Dublin
BEGIN:VTIMEZONE
TZID:Etc/GMT-1
BEGIN:STANDARD
DTSTART:20010101T000000
TZOFFSETFROM:+0100
TZOFFSETTO:+0100
TZNAME:GMT +01:00
END:STANDARD
END:VTIMEZONE
BEGIN:VEVENT
UID:20260426T040533CEST-5111zVgSXu@horsealert.local
DTSTAMP:20260426T020433Z
CATEGORIES:Horse Alerts
DESCRIPTION:European Breeders\' Fund/Thoroughbred Breeders\' Association Ma
 res\' Novices\' Chase
DTSTART:20121122T150000
LOCATION:England
SUMMARY:Horse Racing:European Breeders\' Fund/Thoroughbred Breeders\' Assoc
 iation Mares\' Novices\' Chase
END:VEVENT
END:VCALENDAR
