BEGIN:VCALENDAR
VERSION:2.0
PRODID:-//horsealert.local//NONSGML kigkonsult.se iCalcreator 2.10.5//
CALSCALE:GREGORIAN
X-WR-TIMEZONE:Europe/Dublin
BEGIN:VTIMEZONE
TZID:Etc/GMT-1
BEGIN:STANDARD
DTSTART:20010101T000000
TZOFFSETFROM:+0100
TZOFFSETTO:+0100
TZNAME:GMT +01:00
END:STANDARD
END:VTIMEZONE
BEGIN:VEVENT
UID:20260426T040531CEST-3148L9An9t@horsealert.local
DTSTAMP:20260426T020431Z
CATEGORIES:Horse Alerts
DESCRIPTION:eliteracingclub.co.uk Racing Excellence \'Hands And Heels\' Nov
 ices\' Handicap Hurdle \(Conditional/Amateur\)
DTSTART:20121122T130000
LOCATION:England
SUMMARY:Horse Racing:eliteracingclub.co.uk Racing Excellence \'Hands And He
 els\' Novices\' Handicap Hurdle \(Conditional/Amateur\)
END:VEVENT
END:VCALENDAR
