BEGIN:VCALENDAR
VERSION:2.0
PRODID:-//horsealert.local//NONSGML kigkonsult.se iCalcreator 2.10.5//
CALSCALE:GREGORIAN
X-WR-TIMEZONE:Europe/Dublin
BEGIN:VTIMEZONE
TZID:Etc/GMT-1
BEGIN:STANDARD
DTSTART:20010101T000000
TZOFFSETFROM:+0100
TZOFFSETTO:+0100
TZNAME:GMT +01:00
END:STANDARD
END:VTIMEZONE
BEGIN:VEVENT
UID:20260426T042132CEST-0845IM030X@horsealert.local
DTSTAMP:20260426T020432Z
CATEGORIES:Horse Alerts
DESCRIPTION:Highflyer Bloodstock Four Years Old Chase
DTSTART:20121121T142000
LOCATION:England
SUMMARY:Horse Racing:Highflyer Bloodstock Four Years Old Chase
END:VEVENT
END:VCALENDAR
