BEGIN:VCALENDAR
VERSION:2.0
PRODID:-//horsealert.local//NONSGML kigkonsult.se iCalcreator 2.10.5//
CALSCALE:GREGORIAN
X-WR-TIMEZONE:Europe/Dublin
BEGIN:VTIMEZONE
TZID:Etc/GMT-1
BEGIN:STANDARD
DTSTART:20010101T000000
TZOFFSETFROM:+0100
TZOFFSETTO:+0100
TZNAME:GMT +01:00
END:STANDARD
END:VTIMEZONE
BEGIN:VEVENT
UID:20260426T042050CEST-68215NCiKU@horsealert.local
DTSTAMP:20260426T020450Z
CATEGORIES:Horse Alerts
DESCRIPTION:Dr Tom Kelsey 70th Birthday Beginners\' Chase
DTSTART:20121121T131000
LOCATION:England
SUMMARY:Horse Racing:Dr Tom Kelsey 70th Birthday Beginners\' Chase
END:VEVENT
END:VCALENDAR
