BEGIN:VCALENDAR
VERSION:2.0
PRODID:-//horsealert.local//NONSGML kigkonsult.se iCalcreator 2.10.5//
CALSCALE:GREGORIAN
X-WR-TIMEZONE:Europe/Dublin
BEGIN:VTIMEZONE
TZID:Etc/GMT-1
BEGIN:STANDARD
DTSTART:20010101T000000
TZOFFSETFROM:+0100
TZOFFSETTO:+0100
TZNAME:GMT +01:00
END:STANDARD
END:VTIMEZONE
BEGIN:VEVENT
UID:20260426T040715CEST-7914UMVRBm@horsealert.local
DTSTAMP:20260426T020415Z
CATEGORIES:Horse Alerts
DESCRIPTION:Fakenham\, Diana And Tony\'s Favourite Racecourse Conditional J
 ockeys\' Handicap Chase
DTSTART:20121120T133000
LOCATION:England
SUMMARY:Horse Racing:Fakenham\, Diana And Tony\'s Favourite Racecourse Cond
 itional Jockeys\' Handicap Chase
END:VEVENT
END:VCALENDAR
