BEGIN:VCALENDAR
VERSION:2.0
PRODID:-//horsealert.local//NONSGML kigkonsult.se iCalcreator 2.10.5//
CALSCALE:GREGORIAN
X-WR-TIMEZONE:Europe/Dublin
BEGIN:VTIMEZONE
TZID:Etc/GMT-1
BEGIN:STANDARD
DTSTART:20010101T000000
TZOFFSETFROM:+0100
TZOFFSETTO:+0100
TZNAME:GMT +01:00
END:STANDARD
END:VTIMEZONE
BEGIN:VEVENT
UID:20260426T040601CEST-8755upWmUV@horsealert.local
DTSTAMP:20260426T020401Z
CATEGORIES:Horse Alerts
DESCRIPTION:William Hill \'The Jumps\' Win 100\,000 E.B.F. \'National Hunt\
 ' Novices\' Hurdle \(Qualifier\)
DTSTART:20121113T140000
LOCATION:England
SUMMARY:Horse Racing:William Hill \'The Jumps\' Win 100\,000 E.B.F. \'Natio
 nal Hunt\' Novices\' Hurdle \(Qualifier\)
END:VEVENT
END:VCALENDAR
