BEGIN:VCALENDAR
VERSION:2.0
PRODID:-//horsealert.local//NONSGML kigkonsult.se iCalcreator 2.10.5//
CALSCALE:GREGORIAN
X-WR-TIMEZONE:Europe/Dublin
BEGIN:VTIMEZONE
TZID:Etc/GMT-1
BEGIN:STANDARD
DTSTART:20010101T000000
TZOFFSETFROM:+0100
TZOFFSETTO:+0100
TZNAME:GMT +01:00
END:STANDARD
END:VTIMEZONE
BEGIN:VEVENT
UID:20260426T040717CEST-2516NaAUz1@horsealert.local
DTSTAMP:20260426T020417Z
CATEGORIES:Horse Alerts
DESCRIPTION:Hereditary Spastic Paraplegia Awareness Novices\' Hurdle
DTSTART:20121113T141000
LOCATION:England
SUMMARY:Horse Racing:Hereditary Spastic Paraplegia Awareness Novices\' Hurd
 le
END:VEVENT
END:VCALENDAR
