BEGIN:VCALENDAR
VERSION:2.0
PRODID:-//horsealert.local//NONSGML kigkonsult.se iCalcreator 2.10.5//
CALSCALE:GREGORIAN
X-WR-TIMEZONE:Europe/Dublin
BEGIN:VTIMEZONE
TZID:Etc/GMT-1
BEGIN:STANDARD
DTSTART:20010101T000000
TZOFFSETFROM:+0100
TZOFFSETTO:+0100
TZNAME:GMT +01:00
END:STANDARD
END:VTIMEZONE
BEGIN:VEVENT
UID:20260426T040711CEST-6055iTdhgH@horsealert.local
DTSTAMP:20260426T020411Z
CATEGORIES:Horse Alerts
DESCRIPTION:Leaping For Lifestyle Fitness Novices\' Handicap Hurdle
DTSTART:20121112T132000
LOCATION:England
SUMMARY:Horse Racing:Leaping For Lifestyle Fitness Novices\' Handicap Hurdl
 e
END:VEVENT
END:VCALENDAR
