BEGIN:VCALENDAR
VERSION:2.0
PRODID:-//horsealert.local//NONSGML kigkonsult.se iCalcreator 2.10.5//
CALSCALE:GREGORIAN
X-WR-TIMEZONE:Europe/Dublin
BEGIN:VTIMEZONE
TZID:Etc/GMT-1
BEGIN:STANDARD
DTSTART:20010101T000000
TZOFFSETFROM:+0100
TZOFFSETTO:+0100
TZNAME:GMT +01:00
END:STANDARD
END:VTIMEZONE
BEGIN:VEVENT
UID:20260426T040423CEST-0464VcC95B@horsealert.local
DTSTAMP:20260426T020423Z
CATEGORIES:Horse Alerts
DESCRIPTION:Bet totescoop6 Text Tote To 89660 E.B.F. \'National Hunt\' Novi
 ces\' Hurdle \(Qualifier\)
DTSTART:20121110T123500
LOCATION:England
SUMMARY:Horse Racing:Bet totescoop6 Text Tote To 89660 E.B.F. \'National Hu
 nt\' Novices\' Hurdle \(Qualifier\)
END:VEVENT
END:VCALENDAR
