BEGIN:VCALENDAR
VERSION:2.0
PRODID:-//horsealert.local//NONSGML kigkonsult.se iCalcreator 2.10.5//
CALSCALE:GREGORIAN
X-WR-TIMEZONE:Europe/Dublin
BEGIN:VTIMEZONE
TZID:Etc/GMT-1
BEGIN:STANDARD
DTSTART:20010101T000000
TZOFFSETFROM:+0100
TZOFFSETTO:+0100
TZNAME:GMT +01:00
END:STANDARD
END:VTIMEZONE
BEGIN:VEVENT
UID:20260426T040539CEST-3341Dp4WaI@horsealert.local
DTSTAMP:20260426T020439Z
CATEGORIES:Horse Alerts
DESCRIPTION:Movember And Sons Hairy Conditional Jockeys\' Handicap Hurdle
DTSTART:20121110T124500
LOCATION:England
SUMMARY:Horse Racing:Movember And Sons Hairy Conditional Jockeys\' Handicap
  Hurdle
END:VEVENT
END:VCALENDAR
