BEGIN:VCALENDAR
VERSION:2.0
PRODID:-//horsealert.local//NONSGML kigkonsult.se iCalcreator 2.10.5//
CALSCALE:GREGORIAN
X-WR-TIMEZONE:Europe/Dublin
BEGIN:VTIMEZONE
TZID:Etc/GMT-1
BEGIN:STANDARD
DTSTART:20010101T000000
TZOFFSETFROM:+0100
TZOFFSETTO:+0100
TZNAME:GMT +01:00
END:STANDARD
END:VTIMEZONE
BEGIN:VEVENT
UID:20260426T040631CEST-3859518JMK@horsealert.local
DTSTAMP:20260426T020431Z
CATEGORIES:Horse Alerts
DESCRIPTION:Betfred \'Bigger And Better\' Goals Galore Apprentice Handicap 
 \(Div 2\)
DTSTART:20121110T122000
LOCATION:England
SUMMARY:Horse Racing:Betfred \'Bigger And Better\' Goals Galore Apprentice 
 Handicap \(Div 2\)
END:VEVENT
END:VCALENDAR
