BEGIN:VCALENDAR
VERSION:2.0
PRODID:-//horsealert.local//NONSGML kigkonsult.se iCalcreator 2.10.5//
CALSCALE:GREGORIAN
X-WR-TIMEZONE:Europe/Dublin
BEGIN:VTIMEZONE
TZID:Etc/GMT-1
BEGIN:STANDARD
DTSTART:20010101T000000
TZOFFSETFROM:+0100
TZOFFSETTO:+0100
TZNAME:GMT +01:00
END:STANDARD
END:VTIMEZONE
BEGIN:VEVENT
UID:20260426T040500CEST-7338z5MLah@horsealert.local
DTSTAMP:20260426T020400Z
CATEGORIES:Horse Alerts
DESCRIPTION:KDB Insulation Ltd Celebrating Hunt Ball Standard Open NH Flat 
 Race
DTSTART:20121109T161000
LOCATION:England
SUMMARY:Horse Racing:KDB Insulation Ltd Celebrating Hunt Ball Standard Open
  NH Flat Race
END:VEVENT
END:VCALENDAR
