BEGIN:VCALENDAR
VERSION:2.0
PRODID:-//horsealert.local//NONSGML kigkonsult.se iCalcreator 2.10.5//
CALSCALE:GREGORIAN
X-WR-TIMEZONE:Europe/Dublin
BEGIN:VTIMEZONE
TZID:Etc/GMT-1
BEGIN:STANDARD
DTSTART:20010101T000000
TZOFFSETFROM:+0100
TZOFFSETTO:+0100
TZNAME:GMT +01:00
END:STANDARD
END:VTIMEZONE
BEGIN:VEVENT
UID:20260426T040536CEST-8759tidlUM@horsealert.local
DTSTAMP:20260426T020436Z
CATEGORIES:Horse Alerts
DESCRIPTION:Buy Your 2013 Annual Members Badge Today Mares\' Only Maiden Hu
 rdle
DTSTART:20121108T140000
LOCATION:Scotland
SUMMARY:Horse Racing:Buy Your 2013 Annual Members Badge Today Mares\' Only 
 Maiden Hurdle
END:VEVENT
END:VCALENDAR
