BEGIN:VCALENDAR
VERSION:2.0
PRODID:-//horsealert.local//NONSGML kigkonsult.se iCalcreator 2.10.5//
CALSCALE:GREGORIAN
X-WR-TIMEZONE:Europe/Dublin
BEGIN:VTIMEZONE
TZID:Etc/GMT-1
BEGIN:STANDARD
DTSTART:20010101T000000
TZOFFSETFROM:+0100
TZOFFSETTO:+0100
TZNAME:GMT +01:00
END:STANDARD
END:VTIMEZONE
BEGIN:VEVENT
UID:20260426T040712CEST-6030tVfu8f@horsealert.local
DTSTAMP:20260426T020412Z
CATEGORIES:Horse Alerts
DESCRIPTION:Voltigeur Restaurant 2 Course Special 10.95 Claiming Stakes
DTSTART:20121106T150000
LOCATION:England
SUMMARY:Horse Racing:Voltigeur Restaurant 2 Course Special 10.95 Claiming S
 takes
END:VEVENT
END:VCALENDAR
