BEGIN:VCALENDAR
VERSION:2.0
PRODID:-//horsealert.local//NONSGML kigkonsult.se iCalcreator 2.10.5//
CALSCALE:GREGORIAN
X-WR-TIMEZONE:Europe/Dublin
BEGIN:VTIMEZONE
TZID:Etc/GMT-1
BEGIN:STANDARD
DTSTART:20010101T000000
TZOFFSETFROM:+0100
TZOFFSETTO:+0100
TZNAME:GMT +01:00
END:STANDARD
END:VTIMEZONE
BEGIN:VEVENT
UID:20260426T055345CEST-1269Z06xmg@horsealert.local
DTSTAMP:20260426T030445Z
CATEGORIES:Horse Alerts
DESCRIPTION:British Stallion Studs/World Owl Trust E.B.F. \'Junior\' Standa
 rd Open NH Flat Race
DTSTART:20121104T161500
LOCATION:England
SUMMARY:Horse Racing:British Stallion Studs/World Owl Trust E.B.F. \'Junior
 \' Standard Open NH Flat Race
END:VEVENT
END:VCALENDAR
