BEGIN:VCALENDAR
VERSION:2.0
PRODID:-//horsealert.local//NONSGML kigkonsult.se iCalcreator 2.10.5//
CALSCALE:GREGORIAN
X-WR-TIMEZONE:Europe/Dublin
BEGIN:VTIMEZONE
TZID:Etc/GMT-1
BEGIN:STANDARD
DTSTART:20010101T000000
TZOFFSETFROM:+0100
TZOFFSETTO:+0100
TZNAME:GMT +01:00
END:STANDARD
END:VTIMEZONE
BEGIN:VEVENT
UID:20260426T055343CEST-6977fp8kWX@horsealert.local
DTSTAMP:20260426T030443Z
CATEGORIES:Horse Alerts
DESCRIPTION:George Harrow Memorial Novices\' Handicap Hurdle
DTSTART:20121104T130000
LOCATION:England
SUMMARY:Horse Racing:George Harrow Memorial Novices\' Handicap Hurdle
END:VEVENT
END:VCALENDAR
