BEGIN:VCALENDAR
VERSION:2.0
PRODID:-//horsealert.local//NONSGML kigkonsult.se iCalcreator 2.10.5//
CALSCALE:GREGORIAN
X-WR-TIMEZONE:Europe/Dublin
BEGIN:VTIMEZONE
TZID:Etc/GMT-1
BEGIN:STANDARD
DTSTART:20010101T000000
TZOFFSETFROM:+0100
TZOFFSETTO:+0100
TZNAME:GMT +01:00
END:STANDARD
END:VTIMEZONE
BEGIN:VEVENT
UID:20260426T055118CEST-1270T7ZTIw@horsealert.local
DTSTAMP:20260426T030418Z
CATEGORIES:Horse Alerts
DESCRIPTION:William Hill Priority Prices Handicap Hurdle \(Listed\)
DTSTART:20121103T143500
LOCATION:England
SUMMARY:Horse Racing:William Hill Priority Prices Handicap Hurdle \(Listed\
 )
END:VEVENT
END:VCALENDAR
