BEGIN:VCALENDAR
VERSION:2.0
PRODID:-//horsealert.local//NONSGML kigkonsult.se iCalcreator 2.10.5//
CALSCALE:GREGORIAN
X-WR-TIMEZONE:Europe/Dublin
BEGIN:VTIMEZONE
TZID:Etc/GMT-1
BEGIN:STANDARD
DTSTART:20010101T000000
TZOFFSETFROM:+0100
TZOFFSETTO:+0100
TZNAME:GMT +01:00
END:STANDARD
END:VTIMEZONE
BEGIN:VEVENT
UID:20260426T042028CEST-4082jihZTp@horsealert.local
DTSTAMP:20260426T020428Z
CATEGORIES:Horse Alerts
DESCRIPTION:Damascus Stakes \(Dirt\)
DTSTART:20121103T181000
LOCATION:USA
SUMMARY:Horse Racing:Damascus Stakes \(Dirt\)
END:VEVENT
END:VCALENDAR
