BEGIN:VCALENDAR
VERSION:2.0
PRODID:-//horsealert.local//NONSGML kigkonsult.se iCalcreator 2.10.5//
CALSCALE:GREGORIAN
X-WR-TIMEZONE:Europe/Dublin
BEGIN:VTIMEZONE
TZID:Etc/GMT-1
BEGIN:STANDARD
DTSTART:20010101T000000
TZOFFSETFROM:+0100
TZOFFSETTO:+0100
TZNAME:GMT +01:00
END:STANDARD
END:VTIMEZONE
BEGIN:VEVENT
UID:20260426T055145CEST-3657u8M3Uk@horsealert.local
DTSTAMP:20260426T030445Z
CATEGORIES:Horse Alerts
DESCRIPTION:E.B.F. Dual Classic Winning Sire Cockney Rebel River Eden Filli
 es\' Stakes \(Listed\)
DTSTART:20121101T152000
LOCATION:England
SUMMARY:Horse Racing:E.B.F. Dual Classic Winning Sire Cockney Rebel River E
 den Fillies\' Stakes \(Listed\)
END:VEVENT
END:VCALENDAR
