BEGIN:VCALENDAR
VERSION:2.0
PRODID:-//horsealert.local//NONSGML kigkonsult.se iCalcreator 2.10.5//
CALSCALE:GREGORIAN
X-WR-TIMEZONE:Europe/Dublin
BEGIN:VTIMEZONE
TZID:Etc/GMT-1
BEGIN:STANDARD
DTSTART:20010101T000000
TZOFFSETFROM:+0100
TZOFFSETTO:+0100
TZNAME:GMT +01:00
END:STANDARD
END:VTIMEZONE
BEGIN:VEVENT
UID:20260426T055204CEST-2088UKcpvv@horsealert.local
DTSTAMP:20260426T030404Z
CATEGORIES:Horse Alerts
DESCRIPTION:Haydock Park Rio Carnival Christmas Parties Handicap Hurdle
DTSTART:20121031T155500
LOCATION:England
SUMMARY:Horse Racing:Haydock Park Rio Carnival Christmas Parties Handicap H
 urdle
END:VEVENT
END:VCALENDAR
