BEGIN:VCALENDAR
VERSION:2.0
PRODID:-//horsealert.local//NONSGML kigkonsult.se iCalcreator 2.10.5//
CALSCALE:GREGORIAN
X-WR-TIMEZONE:Europe/Dublin
BEGIN:VTIMEZONE
TZID:Etc/GMT-1
BEGIN:STANDARD
DTSTART:20010101T000000
TZOFFSETFROM:+0100
TZOFFSETTO:+0100
TZNAME:GMT +01:00
END:STANDARD
END:VTIMEZONE
BEGIN:VEVENT
UID:20260426T055358CEST-6582Uaerab@horsealert.local
DTSTAMP:20260426T030458Z
CATEGORIES:Horse Alerts
DESCRIPTION:totepool.com Sports Bingo And More Handicap Chase \(For The Joh
 n H. Kenny Memorial Cup\)
DTSTART:20121027T145000
LOCATION:England
SUMMARY:Horse Racing:totepool.com Sports Bingo And More Handicap Chase \(Fo
 r The John H. Kenny Memorial Cup\)
END:VEVENT
END:VCALENDAR
