BEGIN:VCALENDAR
VERSION:2.0
PRODID:-//horsealert.local//NONSGML kigkonsult.se iCalcreator 2.10.5//
CALSCALE:GREGORIAN
X-WR-TIMEZONE:Europe/Dublin
BEGIN:VTIMEZONE
TZID:Etc/GMT-1
BEGIN:STANDARD
DTSTART:20010101T000000
TZOFFSETFROM:+0100
TZOFFSETTO:+0100
TZNAME:GMT +01:00
END:STANDARD
END:VTIMEZONE
BEGIN:VEVENT
UID:20260426T055351CEST-2635urJWXR@horsealert.local
DTSTAMP:20260426T030451Z
CATEGORIES:Horse Alerts
DESCRIPTION:Thoroughbred Breeders\' Association Houghton Conditions Stakes
DTSTART:20121024T150500
LOCATION:England
SUMMARY:Horse Racing:Thoroughbred Breeders\' Association Houghton Condition
 s Stakes
END:VEVENT
END:VCALENDAR
