BEGIN:VCALENDAR
VERSION:2.0
PRODID:-//horsealert.local//NONSGML kigkonsult.se iCalcreator 2.10.5//
CALSCALE:GREGORIAN
X-WR-TIMEZONE:Europe/Dublin
BEGIN:VTIMEZONE
TZID:Etc/GMT-1
BEGIN:STANDARD
DTSTART:20010101T000000
TZOFFSETFROM:+0100
TZOFFSETTO:+0100
TZNAME:GMT +01:00
END:STANDARD
END:VTIMEZONE
BEGIN:VEVENT
UID:20260426T055227CEST-8437l3CoMB@horsealert.local
DTSTAMP:20260426T030427Z
CATEGORIES:Horse Alerts
DESCRIPTION:Christmas Party Raceday December 9th Handicap Hurdle \(80-102\)
DTSTART:20121021T151500
LOCATION:Eire
SUMMARY:Horse Racing:Christmas Party Raceday December 9th Handicap Hurdle \
 (80-102\)
END:VEVENT
END:VCALENDAR
