BEGIN:VCALENDAR
VERSION:2.0
PRODID:-//horsealert.local//NONSGML kigkonsult.se iCalcreator 2.10.5//
CALSCALE:GREGORIAN
X-WR-TIMEZONE:Europe/Dublin
BEGIN:VTIMEZONE
TZID:Etc/GMT-1
BEGIN:STANDARD
DTSTART:20010101T000000
TZOFFSETFROM:+0100
TZOFFSETTO:+0100
TZNAME:GMT +01:00
END:STANDARD
END:VTIMEZONE
BEGIN:VEVENT
UID:20260426T055159CEST-5722Uk8RJL@horsealert.local
DTSTAMP:20260426T030459Z
CATEGORIES:Horse Alerts
DESCRIPTION:Follow RedcarRacing On Facebook & Twitter Ladies\' Handicap \(L
 ady Amateur Riders\)
DTSTART:20121019T173000
LOCATION:England
SUMMARY:Horse Racing:Follow RedcarRacing On Facebook & Twitter Ladies\' Han
 dicap \(Lady Amateur Riders\)
END:VEVENT
END:VCALENDAR
