BEGIN:VCALENDAR
VERSION:2.0
PRODID:-//horsealert.local//NONSGML kigkonsult.se iCalcreator 2.10.5//
CALSCALE:GREGORIAN
X-WR-TIMEZONE:Europe/Dublin
BEGIN:VTIMEZONE
TZID:Etc/GMT-1
BEGIN:STANDARD
DTSTART:20010101T000000
TZOFFSETFROM:+0100
TZOFFSETTO:+0100
TZNAME:GMT +01:00
END:STANDARD
END:VTIMEZONE
BEGIN:VEVENT
UID:20260426T055137CEST-4190seWUpX@horsealert.local
DTSTAMP:20260426T030437Z
CATEGORIES:Horse Alerts
DESCRIPTION:For Your Comfort DG Cars 01159 500500 Handicap
DTSTART:20121017T162000
LOCATION:England
SUMMARY:Horse Racing:For Your Comfort DG Cars 01159 500500 Handicap
END:VEVENT
END:VCALENDAR
