BEGIN:VCALENDAR
VERSION:2.0
PRODID:-//horsealert.local//NONSGML kigkonsult.se iCalcreator 2.10.5//
CALSCALE:GREGORIAN
X-WR-TIMEZONE:Europe/Dublin
BEGIN:VTIMEZONE
TZID:Etc/GMT-1
BEGIN:STANDARD
DTSTART:20010101T000000
TZOFFSETFROM:+0100
TZOFFSETTO:+0100
TZNAME:GMT +01:00
END:STANDARD
END:VTIMEZONE
BEGIN:VEVENT
UID:20260426T055212CEST-3563BZ05MP@horsealert.local
DTSTAMP:20260426T030412Z
CATEGORIES:Horse Alerts
DESCRIPTION:Betfred Bigger And Better Goals Galore Alderbrook Handicap \(Ri
 dden By Professional NH Jockeys\)
DTSTART:20121014T140000
LOCATION:England
SUMMARY:Horse Racing:Betfred Bigger And Better Goals Galore Alderbrook Hand
 icap \(Ridden By Professional NH Jockeys\)
END:VEVENT
END:VCALENDAR
