BEGIN:VCALENDAR
VERSION:2.0
PRODID:-//horsealert.local//NONSGML kigkonsult.se iCalcreator 2.10.5//
CALSCALE:GREGORIAN
X-WR-TIMEZONE:Europe/Dublin
BEGIN:VTIMEZONE
TZID:Etc/GMT-1
BEGIN:STANDARD
DTSTART:20010101T000000
TZOFFSETFROM:+0100
TZOFFSETTO:+0100
TZNAME:GMT +01:00
END:STANDARD
END:VTIMEZONE
BEGIN:VEVENT
UID:20260426T055201CEST-75189wb1fx@horsealert.local
DTSTAMP:20260426T030401Z
CATEGORIES:Horse Alerts
DESCRIPTION:E.B.F. JA Harrison Gasket Seals & Ptfe \'National Hunt\' Novice
 s\' Hurdle \(Qualifier\)
DTSTART:20121011T163000
LOCATION:England
SUMMARY:Horse Racing:E.B.F. JA Harrison Gasket Seals & Ptfe \'National Hunt
 \' Novices\' Hurdle \(Qualifier\)
END:VEVENT
END:VCALENDAR
