BEGIN:VCALENDAR
VERSION:2.0
PRODID:-//horsealert.local//NONSGML kigkonsult.se iCalcreator 2.10.5//
CALSCALE:GREGORIAN
X-WR-TIMEZONE:Europe/Dublin
BEGIN:VTIMEZONE
TZID:Etc/GMT-1
BEGIN:STANDARD
DTSTART:20010101T000000
TZOFFSETFROM:+0100
TZOFFSETTO:+0100
TZNAME:GMT +01:00
END:STANDARD
END:VTIMEZONE
BEGIN:VEVENT
UID:20260426T055128CEST-61585UD8Vm@horsealert.local
DTSTAMP:20260426T030428Z
CATEGORIES:Horse Alerts
DESCRIPTION:Tramore Racecourse 1912 - 2012 Centenary Ladies Flat Race
DTSTART:20121011T174500
LOCATION:Eire
SUMMARY:Horse Racing:Tramore Racecourse 1912 - 2012 Centenary Ladies Flat R
 ace
END:VEVENT
END:VCALENDAR
