BEGIN:VCALENDAR
VERSION:2.0
PRODID:-//horsealert.local//NONSGML kigkonsult.se iCalcreator 2.10.5//
CALSCALE:GREGORIAN
X-WR-TIMEZONE:Europe/Dublin
BEGIN:VTIMEZONE
TZID:Etc/GMT-1
BEGIN:STANDARD
DTSTART:20010101T000000
TZOFFSETFROM:+0100
TZOFFSETTO:+0100
TZNAME:GMT +01:00
END:STANDARD
END:VTIMEZONE
BEGIN:VEVENT
UID:20260426T055137CEST-2349lrrsIP@horsealert.local
DTSTAMP:20260426T030437Z
CATEGORIES:Horse Alerts
DESCRIPTION:Tramore Racecourse 2012 Special Recognition Award Handicap Hurd
 le \(80-109\)
DTSTART:20121011T154500
LOCATION:Eire
SUMMARY:Horse Racing:Tramore Racecourse 2012 Special Recognition Award Hand
 icap Hurdle \(80-109\)
END:VEVENT
END:VCALENDAR
